BEGIN:VCALENDAR
VERSION:2.0
PRODID:ics.py - http://git.io/lLljaA
BEGIN:VEVENT
DESCRIPTION:Stop by Sacred Grounds to enjoy a bagel with the Tea House staff!\n\nhttps://today.coloradocollege.edu/events/8720
DTEND:20250511T190000Z
LOCATION:Sacred Grounds
DTSTART:20250511T160000Z
SUMMARY:Sacred Grounds Bagels
UID:737561e6-8e52-43ee-ae0a-1f5608e8a472
END:VEVENT
END:VCALENDAR