BEGIN:VCALENDAR
VERSION:2.0
PRODID:ics.py - http://git.io/lLljaA
BEGIN:VEVENT
DESCRIPTION:\n\nhttps://today.coloradocollege.edu/events/8733
DTEND:20250328T030000Z
LOCATION:Cossitt Faculty Lounge
DTSTART:20250328T013000Z
SUMMARY:Jovanovich Lecture in Public Affairs "A Culture of Conversation: Oakeshott's Prescription for the Renewal of Learning"
UID:bafce43b-8d0c-44e1-9843-aa74a7ad2c5c
END:VEVENT
END:VCALENDAR