BEGIN:VCALENDAR
VERSION:2.0
PRODID:ics.py - http://git.io/lLljaA
BEGIN:VEVENT
DESCRIPTION:\n\nhttps://today.coloradocollege.edu/events/8734
DTEND:20250328T030000Z
LOCATION:Cossitt Faculty Lounge & Bemis Great Hall
DTSTART:20250328T013000Z
SUMMARY:The Biennial Conference of the Michael Oakeshott Association - Lecture & Panels
UID:60a07415-d098-45aa-96d3-6c43c95a0590
END:VEVENT
END:VCALENDAR