BEGIN:VCALENDAR
VERSION:2.0
PRODID:ics.py - http://git.io/lLljaA
BEGIN:VEVENT
DESCRIPTION:The sunshine has returned\, and we are so excited to be outside at the farm again! Join us to begin prepping our beds for this summer. We'll be making sure our soil is healthy and ready for all the delicious veggies we'll be planting later this block. No previous farming experience necessary!\n\nThe farm club meets every Wednesday from 5-6 pm and every Sunday from 1-3 pm.\n\nhttps://today.coloradocollege.edu/events/8750
DTEND:20250327T000000Z
LOCATION:CC Farm
DTSTART:20250326T230000Z
SUMMARY:Prep Garden Beds at the CC Farm
UID:cddd34a9-3841-4205-b79f-91137d238b25
END:VEVENT
END:VCALENDAR