BEGIN:VCALENDAR
VERSION:2.0
PRODID:ics.py - http://git.io/lLljaA
BEGIN:VEVENT
DESCRIPTION:Join us at Cossit Hall on Sunday\, May 11th at 4 PM for "From Every Corner: A Global Dance Collaboration"! This exhilarating showcase celebrates the vibrant diversity of Colorado College's adjunct dance instructors\, featuring an array of captivating dance genres from around the world. Experience the rhythm of different cultures\, as talented performers take you on a journey through movement and music. Don't miss this unique opportunity to witness the artistry and creativity that our community has to offer. Come and be inspired by the magic of dance!\n\nhttps://today.coloradocollege.edu/events/8799
DTEND:20250511T233000Z
LOCATION:Cossitt Hall
DTSTART:20250511T220000Z
SUMMARY:"From Every Corner: A Global Dance Collaboration"!
UID:542a51fa-2e25-49a8-abee-30c2e4edfd34
END:VEVENT
END:VCALENDAR