BEGIN:VCALENDAR
VERSION:2.0
PRODID:ics.py - http://git.io/lLljaA
BEGIN:VEVENT
DESCRIPTION:Want to take a trip to the Cheyenne Mountain Zoo and get off campus at Block Break\, join OCA for a fund afternoon at the Zoo!\n\nEvent Details: \n\nDate: Thursday\, April 17th\, 2025\nTime: 12:30pm - 3:30pm\nLocation: Meet on the Southside of the Worner Center (Cache La Poudre St.) \nTransportation &amp\; admission to the zoo will be provided\nSpace is limited\n\nPlease email all questions to <a href="mailto:campusactivities@coloradocollege.edu">campusactivities@coloradocollege.edu</a>.\n\nRSVP Here: <a href="https://coloradocollege.qualtrics.com/jfe/form/SV_3xwi3qyh5w97Bwa">https://coloradocollege.qualtrics.com/jfe/form/SV_3xwi3qyh5w97Bwa</a>\n\n\n\nhttps://today.coloradocollege.edu/events/8818
DTEND:20250417T213000Z
LOCATION:Meet on the Southside of Worner
DTSTART:20250417T183000Z
SUMMARY:Block Break 7 Trip to Cheyenne Mountain Zoo
UID:5415b284-80d4-4251-90b2-e8be5e5e53ce
END:VEVENT
END:VCALENDAR