BEGIN:VCALENDAR
VERSION:2.0
PRODID:ics.py - http://git.io/lLljaA
BEGIN:VEVENT
DESCRIPTION:Come get some late night breakfast food at Rastall's on 4th Tuesday of Block 7! Doors open at 9pm and close at 11pm. \n\n\n\nhttps://today.coloradocollege.edu/events/8823
DTEND:20250416T050000Z
LOCATION:Rastall Dining Room
DTSTART:20250416T030000Z
SUMMARY:Late Night Breakfast!
UID:e65c6b24-e9e1-42a9-a9f9-bb50f6652fdf
END:VEVENT
END:VCALENDAR