BEGIN:VCALENDAR
VERSION:2.0
PRODID:ics.py - http://git.io/lLljaA
BEGIN:VEVENT
DESCRIPTION:\n\nhttps://today.coloradocollege.edu/events/8825
DTEND:20250503T220000Z
LOCATION:Red Rock Open Space
DTSTART:20250503T190000Z
SUMMARY:Contemplative Hike & Ice Cream
UID:d62040ad-ddf1-48f4-b610-342bc4f9b39e
END:VEVENT
END:VCALENDAR