BEGIN:VCALENDAR
VERSION:2.0
PRODID:ics.py - http://git.io/lLljaA
BEGIN:VEVENT
DESCRIPTION:Wrapping up a year of cross-campus conversations on Generative AI (GenAI) at Colorado College\, this Crown Educational Development Day addresses the present moment while inviting exploration of the future. Together we will explore foundational concepts\, ethical considerations\, and strategies for navigating GenAI within the context of our liberal arts\, antiracism\, and sustainability values.  \n \nThe morning session (9:00 a.m. to 12:00 p.m.) will focus on where we are now\, while the afternoon session (1:00 p.m. to 3:00 p.m.) will follow the <a href="https://theworldcafe.com/key-concepts-resources/world-cafe-method/">World Café Method</a> to foster collaborative discussions on various topics as we look to the future. Participants are encouraged to <a href="https://forms.office.com/r/68nJxKAiU3">register</a> for either or both morning and afternoon sessions. \n\nCoffee\, snacks\, and lunch will be provided.\n\nhttps://today.coloradocollege.edu/events/8830
DTEND:20250515T210000Z
LOCATION:Tutt Library Room 105
DTSTART:20250515T150000Z
SUMMARY:Educator Development Day: AI at CC
UID:0d45e76b-e067-47f8-a837-4f65380d13bd
END:VEVENT
END:VCALENDAR