BEGIN:VCALENDAR
VERSION:2.0
PRODID:ics.py - http://git.io/lLljaA
BEGIN:VEVENT
DESCRIPTION:\n\nhttps://today.coloradocollege.edu/events/8832
DTEND:20250502T220000Z
LOCATION:Labyrinth
DTSTART:20250502T210000Z
SUMMARY:Popsicles for You!
UID:72ca43c4-e9fd-4c94-be9f-62f56328bf40
END:VEVENT
END:VCALENDAR