BEGIN:VCALENDAR
VERSION:2.0
PRODID:ics.py - http://git.io/lLljaA
BEGIN:VEVENT
DESCRIPTION:\nThe Colorado College Summer Music Festival presents the first Festival Artists chamber music concert of its 41st season beginning at 7 p.m. Tuesday\, June 10\, in Packard Hall.\n\nTickets are FREE for CC students\, faculty\, and staff with CCID. <a href="https://www.coloradocollege.edu/other/summermusicfestival/concerts/2025-season.html">Get tickets online in advance</a> or\, if available\, at the door. \n\nThe concert program includes works by Bardin\, Roussel\, Françaix\, Ravel\, and Poulenc. Don't miss a free pre-concert lecture with CC Prof. Emeritus Michael Grace at 5:45 p.m. in Packard Room 9.\n\nThe CC Summer Music Festival runs June 7-27 with dozens of free and ticketed events for all ages. For more information\, call (719) 389-6552 or visit <a href="https://www.coloradocollege.edu/other/summermusicfestival/concerts/2025-season.html">coloradocollege.edu/musicfestival</a>.\n\nhttps://today.coloradocollege.edu/events/8856
DTEND:20250611T023000Z
LOCATION:Packard Performance Hall
DTSTART:20250611T010000Z
SUMMARY:CC Summer Music Festival: Festival Artists Concert
UID:3c747f30-0941-46b8-a8e0-ea308aafa3c1
END:VEVENT
END:VCALENDAR