BEGIN:VCALENDAR
VERSION:2.0
PRODID:ics.py - http://git.io/lLljaA
BEGIN:VEVENT
DESCRIPTION:\nThe Colorado College Summer Music Festival presents the next Festival Artists chamber music concert in its 41st season beginning at 7 p.m. Thursday\, June 19\, in Packard Hall.\n\nTickets are FREE for CC students\, faculty\, and staff with CCID. <a href="https://www.coloradocollege.edu/other/summermusicfestival/concerts/2025-season.html">Get tickets online in advance</a> or\, if available\, at the door. \n\nThe program includes works Rossini\, Villa-Lobos\, Schulhoff\, Glière\, and Dohnányi.\n\nA free pre-concert recital begins at 5:45 (no tickets required)\, featuring the music of pianist John Novacek and including the premiere of his original work for string octet. All are invited to the Packard courtyard to enjoy snacks and drinks and to learn more about the festival in between concerts.\n\nThe CC Summer Music Festival runs June 7-27 with dozens of free and ticketed events for all ages. For more information\, call (719) 389-6552 or visit <a href="http://coloradocollege.edu/musicfestival">coloradocollege.edu/musicfestival</a>.\n\nhttps://today.coloradocollege.edu/events/8858
DTEND:20250620T023000Z
LOCATION:Packard Performance Hall
DTSTART:20250620T010000Z
SUMMARY:CC Summer Music Festival: Festival Artists Concert
UID:deb070ca-2364-47bc-b7d9-75155da280d4
END:VEVENT
END:VCALENDAR