BEGIN:VCALENDAR
VERSION:2.0
PRODID:ics.py - http://git.io/lLljaA
BEGIN:VEVENT
DESCRIPTION:\nThe Colorado College Summer Music Festival presents free Music at Midday chamber music concerts throughout June! \n\nJoin us during lunch on Friday\, June 20\, beginning at 12:15 p.m. in Packard Hall. Music at Middays will also be held Monday\, June 23\; Wednesday\, June 25\; Thursday\, June 26\; and Friday\, June 27.\n\nNo tickets are required for these concerts\, which feature the Festival’s student fellows — pre-professional musicians who have auditioned to be invited to study and perform at the Festival\, which is now in its 41st season. Fellows come together for the first time on June 7 and learn music throughout the three-week Festival to perform for the public. Music at Midday programs vary by concert and are dependent on which pieces are performance-ready by each chamber ensemble on concert day.\n\nThe CC Summer Music Festival runs June 7-27 with dozens of free and ticketed events for all ages. All tickets are FREE for Colorado College students\, faculty\, and staff!\n\nFor more information\, call (719) 389-6552 or visit <a href="https://www.coloradocollege.edu/other/summermusicfestival/concerts/2025-season.html">coloradocollege.edu/musicfestival</a>.\n\nhttps://today.coloradocollege.edu/events/8865
DTEND:20250620T191500Z
LOCATION:Packard Performance Hall
DTSTART:20250620T181500Z
SUMMARY:CC Summer Music Festival: Music at Midday
UID:dbe23a98-b7af-4463-bc3c-6c0848b9566c
END:VEVENT
END:VCALENDAR