BEGIN:VCALENDAR
VERSION:2.0
PRODID:ics.py - http://git.io/lLljaA
BEGIN:VEVENT
DESCRIPTION:\nThe Colorado College Summer Music Festival presents its annual Children’s Orchestra Concert on Thursday\, June 19\, with performances beginning at 9 a.m. and 11 a.m. in Celeste Theatre\, Cornerstone Arts Center.\n\nThese concerts are free for all\, but <a href="https://www.coloradocollege.edu/other/summermusicfestival/concerts/2025-season.html">tickets are required</a> due to high demand with limited space\, and seats sell out quickly each year. Patrons are welcome to check at the door whether seats are available if tickets have sold out online.\n\nThe concert opens with Mozart’s Toy Symphony\, followed by the main event: Dr. Seuss’s Green Eggs and Ham\, an operatic adaptation of the beloved children’s book composed by Robert Kapilow. This performance features <a href="https://reallyinventivestuff.com/">Really Inventive Stuff</a> creative team Sara Valentine and Michael Boudewyns\, with guest artist Jennifer DeDominici\, soprano.\n\nAs Time Out New York described Kapilow’s work: “Adults will get a chance to hear what a gleefully sophisticated pastiche of modernism sounds like\, and children\, who might not understand the word ‘absurdist’ but have a natural affinity for the absurd\, should feel right at home.”\n\nThe CC Summer Music Festival runs June 7-27 with dozens of free and ticketed events for all ages. For more information\, call (719) 389-6552 or visit <a href="https://www.coloradocollege.edu/other/summermusicfestival/concerts/2025-season.html">coloradocollege.edu/musicfestival</a>.\n\nhttps://today.coloradocollege.edu/events/8870
DTEND:20250619T180000Z
LOCATION:Richard F. Celeste Theatre
DTSTART:20250619T150000Z
SUMMARY:CC Summer Music Festival: Children's Orchestra Concerts - SOLD OUT!
UID:eae67f16-6833-40c4-8a08-362396230d5b
END:VEVENT
END:VCALENDAR