BEGIN:VCALENDAR
VERSION:2.0
PRODID:ics.py - http://git.io/lLljaA
BEGIN:VEVENT
DESCRIPTION:\nThe Colorado College Summer Music Festival presents a free recital beginning at 5:45 p.m. Thursday\, June 19\, in Packard Hall.\n\nThe concert features the music of Festival pianist John Novacek\, including the premiere of his original work for string octet\, Music for 8.\n\nThis free pre-concert recital takes place before the ticketed Festival Artists Concert later in the evening. Following the recital\, attendees are invited to the Packard courtyard for drinks and snacks while socializing and learning more about the Festival.\n\nThe CC Summer Music Festival runs June 7-27 with dozens of free and ticketed events for all ages. All tickets are FREE for Colorado College students\, faculty\, and staff! For more information\, call (719) 389-6552 or visit <a href="https://www.coloradocollege.edu/other/summermusicfestival/concerts/2025-season.html">coloradocollege.edu/musicfestival</a>.\n\nhttps://today.coloradocollege.edu/events/8871
DTEND:20250620T003000Z
LOCATION:Packard Performance Hall
DTSTART:20250619T234500Z
SUMMARY:CC Summer Music Festival: Festival Artists Pre-Concert Recital
UID:e40e5c66-1049-450d-ab6f-ba56e8f8ca1b
END:VEVENT
END:VCALENDAR