BEGIN:VCALENDAR
VERSION:2.0
PRODID:ics.py - http://git.io/lLljaA
BEGIN:VEVENT
DESCRIPTION:\nThe Colorado College Summer Music Festival presents its Fellow Concerto Readings performance beginning at 2 p.m. Saturday\, June 21\, in Celeste Theatre\, Cornerstone Arts Center. The event is free\, no tickets required.\n\nCC Summer Music Festival Fellows are pre-professional musicians who have auditioned to attend the three-week Festival to study with preeminent teaching faculty and perform in a variety of venues for the community. \n\nOut of more than 50 Fellows attending the Festival\, a handful are selected to read one movement of a concerto with the Festival Orchestra for this concert. During the Concerto Readings\, the selected Fellows have a chance to work through the concerto movement while receiving feedback on their performance from Festival Faculty. The concert also offers the audience a unique opportunity for a peek behind the curtain into the rehearsal process.\n\nThe CC Summer Music Festival runs June 7-27 with dozens of free and ticketed events for all ages. For more information\, call (719) 389-6552 or visit <a href="https://www.coloradocollege.edu/other/summermusicfestival/concerts/2025-season.html">coloradocollege.edu/musicfestival</a>.\n\nhttps://today.coloradocollege.edu/events/8873
DTEND:20250621T220000Z
LOCATION:Richard F. Celeste Theatre
DTSTART:20250621T200000Z
SUMMARY:CC Summer Music Festival: Fellow Concerto Readings
UID:80465f40-933b-4272-b3e2-5099d9c3698f
END:VEVENT
END:VCALENDAR