BEGIN:VCALENDAR
VERSION:2.0
PRODID:ics.py - http://git.io/lLljaA
BEGIN:VEVENT
DESCRIPTION:\nThe Colorado College Summer Music Festival presents Stravinsky’s The Soldier’s Tale beginning at 5 p.m. Sunday\, June 22\, in Celeste Theatre\, Cornerstone Arts Center. \n\nTickets are FREE for CC students\, faculty\, and staff with CCID. <a href="https://www.coloradocollege.edu/other/summermusicfestival/concerts/2025-season.html">Get tickets online in advance</a> or\, if available\, at the door. \n\nDirecting the production is Colorado College Professor Emeritus Thomas Lindblade\, who has assembled an incredible cast of stage performers to bring the composer’s 1918 work based on a Russian folk tale to life. Longtime actor\, director and coach Nike Doukas will play the role of the devil. Leo Marks\, with numerous credits in theatre\, film\, and television\, has been cast as the soldier. Jane Kaczmarek\, best known as the mom in “Malcom in the Middle\,” along with numerous other television roles\, will be the narrator. Ballet instructor and performer Prentiss Benjamin rounds out the cast as the princess.\n\nMusicians will be led by Festival conductor Scott Yoo. Performers include CC Summer Music Festival Faculty Artists as well as guest musicians: Sergei Vassiliev\, clarinet\; Michael Kroth\, bassoon\; Jean Laurenz\, trumpet\; John Rojak\, trombone\; Aaron Turner\, percussion\; Steven Copes\, violin\; Susan Cahill\, bass.\n\nThe CC Summer Music Festival runs June 7-27 with dozens of free and ticketed events for all ages. For more information\, call (719) 389-6552 or visit <a href="https://www.coloradocollege.edu/other/summermusicfestival/concerts/2025-season.html">coloradocollege.edu/musicfestival</a>.\n\nhttps://today.coloradocollege.edu/events/8874
DTEND:20250623T010000Z
LOCATION:Richard F. Celeste Theatre
DTSTART:20250622T230000Z
SUMMARY:CC Summer Music Festival: Stravinsky's The Soldier's Tale
UID:d7a94f5c-27d1-4710-a549-9c62d16f84e5
END:VEVENT
END:VCALENDAR