BEGIN:VCALENDAR
VERSION:2.0
PRODID:ics.py - http://git.io/lLljaA
BEGIN:VEVENT
DESCRIPTION:USA Triathlon is hosting a Kids Splash and Dash Ages 6-12 at Schlessman Natatorium on Saturday May 3rd @ 9am (8:30am sign in)\nPlease see the following link for registration and more information on the event. \n<a href="https://www.trisignup.com/Race/CO/ColoradoSprings/SpringsSplashDash">https://www.trisignup.com/Race/CO/ColoradoSprings/SpringsSplashDash</a>\nYou may also reach out to Jen Buffin Head Swimming and Diving Coach/Aquatics director for additional information. jbuffin@coloradocollege.edu\n\nhttps://today.coloradocollege.edu/events/8882
DTEND:20250503T160000Z
LOCATION:Schlessman Natatorium
DTSTART:20250503T150000Z
SUMMARY:Kids Splash and Dash 
UID:7ddc63dd-a590-4d9c-9960-e0cdde9fab0c
END:VEVENT
END:VCALENDAR