BEGIN:VCALENDAR
VERSION:2.0
PRODID:ics.py - http://git.io/lLljaA
BEGIN:VEVENT
DESCRIPTION:<a href="https://www.coloradocollege.edu/newsevents/calendar/details.html?EventID=58503&amp\;booking=1"></a>\nDirected by Daniel Brink and Jerilyn Jorgensen\, the chamber orchestra presents their final performance with music by Saint-Saëns\, Gluck\, and Hayden.\n\nhttps://today.coloradocollege.edu/events/8891
DTEND:20250505T020000Z
LOCATION:Packard Performance Hall
DTSTART:20250505T010000Z
SUMMARY:Chamber Orchestra Concert - Sunday\, May 4 at 7 p.m. (Packard Hall)
UID:7fbdf6f5-f114-4201-9cfd-68c2b4348d0f
END:VEVENT
END:VCALENDAR