BEGIN:VCALENDAR
VERSION:2.0
PRODID:ics.py - http://git.io/lLljaA
BEGIN:VEVENT
DESCRIPTION:Compete in a 5 v. 5 Soccer Tournament. Each team will represent a Language House!\n\nJoin the Language Houses as we host a tournament to see which house can boast the 1st place trophy! We provide the Snacks + Hydration + Jerserys and you provide the competitive spirit.\n\nThere will be a guest performance from a dance team!\n\nhttps://today.coloradocollege.edu/events/8896
DTEND:20250503T200000Z
LOCATION:Stewart Field
DTSTART:20250503T170000Z
SUMMARY:Language House Soccer Tournament
UID:92e986b0-9025-4515-83b8-0a81d89b8a20
END:VEVENT
END:VCALENDAR