BEGIN:VCALENDAR
VERSION:2.0
PRODID:ics.py - http://git.io/lLljaA
BEGIN:VEVENT
DESCRIPTION:Want to learn some tips on new ways to become a reliable consumer of news and information during one of the most disorienting times in history to do it?\n\nJoin journalism instructor Corey Hutchins and Carlos Duarte\, associate college librarian for public services\, in Tutt library this Friday at noon. We’ll have tacos and talk about our processes for keeping up with global\, national\, state\, and local news — and how to tell what’s legit and what’s not.\n\nYou’ll learn how to set up news feeds\, how to triangulate coverage\, and guard yourself against the proliferation of misinformation and disinformation.\n\nWhat: Ways to follow the news.\nWhen/where: Friday\, May 2 at 12 p.m. in Tutt 105. \nWhy: Because there’s a lot going on these days and information is a powerful currency.\n\nhttps://today.coloradocollege.edu/events/8898
DTEND:20250502T190000Z
LOCATION:Tutt 105
DTSTART:20250502T180000Z
SUMMARY:Ways to follow the news with UNBOUND
UID:67069c26-29bf-45ad-8157-3d505492f2cc
END:VEVENT
END:VCALENDAR