BEGIN:VCALENDAR
VERSION:2.0
PRODID:ics.py - http://git.io/lLljaA
BEGIN:VEVENT
DESCRIPTION:\n\nhttps://today.coloradocollege.edu/events/8900
DTEND:20250501T201500Z
LOCATION:Shove Side Chapel
DTSTART:20250501T181500Z
SUMMARY:May Day Dance Party !
UID:de437be5-ea98-4aaa-80db-71ed3ff4fc37
END:VEVENT
END:VCALENDAR