BEGIN:VCALENDAR
VERSION:2.0
PRODID:ics.py - http://git.io/lLljaA
BEGIN:VEVENT
DESCRIPTION:a community dinner for Living Dead Under Settler Colonialism: A Zombie Symposium for the Liberal Arts. Please join for food\, drinks\, and the opportunity to meet with our visiting symposium speakers. Entertainment will include zombie-themed music videos and student dancers teaching the moves to the zombie dance in Michael Jackson's Thriller. No previous experience with dancing or zombies required. \n\n\nhttps://today.coloradocollege.edu/events/8903
DTEND:20250502T020000Z
LOCATION:Gaylord Hall
DTSTART:20250502T000000Z
SUMMARY:Community Dinner for Living Dead Under Settler Colonialism
UID:cd055f8f-3458-4584-b7ec-0444cf4de913
END:VEVENT
END:VCALENDAR