BEGIN:VCALENDAR
VERSION:2.0
PRODID:ics.py - http://git.io/lLljaA
BEGIN:VEVENT
DESCRIPTION:Please come learn about our Psychology and Neuroscience seniors' research! Both poster sessions are open to the campus community.\n\nPoster Session 1\nTutt Science First Floor Atrium\n1:00 – 2:00 pm\n\n\n\n\nNate Beerman\nNeuroscience\n\n\nLoan (Lula) Boyd\nPsychology\n\n\nOlivia Burton\nPsychology\n\n\nPaul Ehret\nNeuroscience\n\n\nOliver Febbo\nNeuroscience\n\n\nAndrew S. Han\nNeuroscience\n\n\nTheodor G. Hopfer\nPsychology\n\n\nH. Knox Huang\nPsychology\n\n\nAine Kaminski\nNeuroscience\n\n\nKyle Lee\nNeuroscience\n\n\nRobert Edward Maher IV\nPsychology\n\n\nAnna Matsui\nNeuroscience\n\n\nSarah Shepard\nPsychology\n\n\nClara Stormer\nNeuroscience\n\n\nXinran Wang\nPsychology\n\n\nAlissa Weisman\nPsychology\n\n\nRyan Young\nPsychology\n\n\n\n\nPoster Session 2\nTutt Science First Floor Atrium\n2:45 – 3:45 pm\n\n\n\n\nUtshaa Basu\nPsychology\n\n\nAudra L. Bosak-Harper\nNeuroscience\n\n\nSarah Cloninger\nNeuroscience\n\n\nCassidy H. Craige\nPsychology\n\n\nJake Greenblatt\nPsychology\n\n\nCaroline Jones\nNeuroscience\n\n\nAlana King\nNeuroscience\n\n\nBen Leibowitz\nPsychology\n\n\nAna Martin\nNeuroscience\n\n\nSofia Luisa Murgian\nNeuroscience\n\n\nNicole Peirson\nNeuroscience\n\n\nIzzy Roe\nPsychology\n\n\nKarla Soto\nPsychology\n\n\nHannah Yeary\nPsychology\n\n\n\n\nhttps://today.coloradocollege.edu/events/8905
DTEND:20250502T220000Z
LOCATION:Tutt Science Center 
DTSTART:20250502T190000Z
SUMMARY:Psychology and Neuroscience Poster Day TODAY 1:00-3:45 pm
UID:d8662440-18a9-4878-8d3b-da6d5eb9641b
END:VEVENT
END:VCALENDAR