BEGIN:VCALENDAR
VERSION:2.0
PRODID:ics.py - http://git.io/lLljaA
BEGIN:VEVENT
DESCRIPTION:<a href="https://www.coloradocollege.edu/newsevents/calendar/details.html?EventID=58299&amp\;booking=1&amp\;title=Gamelan%20Ensemble%20Concert"></a>Join us in Packard Hall for a colorful performance of Indonesian music and dance\, presented by the CC Gamelan Ensemble directed by I Made Lasmawan and Ni Ketut Marni.\n\nhttps://today.coloradocollege.edu/events/8914
DTEND:20250511T220000Z
LOCATION:Packard Performance Hall
DTSTART:20250511T210000Z
SUMMARY:Gamelan Ensemble Concert ft. the Balinese Dancers - Sunday\, May 11 at 3 p.m. (Packard Hall)
UID:b91986b5-1582-4501-83ef-4c0e369a4c81
END:VEVENT
END:VCALENDAR