BEGIN:VCALENDAR
VERSION:2.0
PRODID:ics.py - http://git.io/lLljaA
BEGIN:VEVENT
DESCRIPTION:\nJoin the Mathematics &amp\; Computer Science Department in Tutt Science room 229 on Friday\, May 9th at 3:00pm for a talk given by Dr. Viktor Savchuk.\n\nhttps://today.coloradocollege.edu/events/8923
DTEND:20250509T220000Z
LOCATION:Tutt Science 229
DTSTART:20250509T210000Z
SUMMARY:Fearless Friday | Fejér-Type Summability Method for Periodic Rational Fourier Series
UID:f27f1505-857c-410f-9deb-688d9ffe20ff
END:VEVENT
END:VCALENDAR