BEGIN:VCALENDAR
VERSION:2.0
PRODID:ics.py - http://git.io/lLljaA
BEGIN:VEVENT
DESCRIPTION:\n\nhttps://today.coloradocollege.edu/events/8925
DTEND:20250513T230000Z
LOCATION:Packard Performance Hall
DTSTART:20250513T220000Z
SUMMARY:Student Piano Recital - Neo Li & Luke Brucker - TODAY @ 4 PM
UID:5114da03-138b-41b7-b77a-1017db23c2a4
END:VEVENT
END:VCALENDAR