BEGIN:VCALENDAR
VERSION:2.0
PRODID:ics.py - http://git.io/lLljaA
BEGIN:VEVENT
DESCRIPTION:Staff Council is excited to welcome the Josh &amp\; John’s Scoop Bus to campus on Tuesday\, May 27\, from 10 a.m.-2 p.m.\, as a special Staff and Faculty Appreciation event and a sweet way to kick off the summer season!\n \nThe Scoop Bus will be parked on campus in front of Worner\, serving up delicious ice cream free of charge to all staff and faculty. Just bring your Gold Card to enjoy a scoop (or two!) on us.\n \nCome take a break\, connect with colleagues\, and treat yourself – you’ve earned it!\n\nhttps://today.coloradocollege.edu/events/8926
DTEND:20250527T200000Z
LOCATION:Outside Worner 
DTSTART:20250527T160000Z
SUMMARY:Josh & John's Scoop Bus - Free Ice Cream! 
UID:2358fc40-92fa-4ea7-aea2-07950ee87872
END:VEVENT
END:VCALENDAR