BEGIN:VCALENDAR
VERSION:2.0
PRODID:ics.py - http://git.io/lLljaA
BEGIN:VEVENT
DESCRIPTION:On Aug. 14\, experience Possibility Books (PB)\, a brief daily CC pedagogy for courses across disciplines. In this workshop\, new users will see how to adapt the pedagogy in their courses while faculty who have already implemented PB in one or more courses join from lunch till 2:30 pm for small group discussions to share and broaden ideas for implementation. Participants can receive a stipend for the workshop\, implementation then survey\, and post-block focus group. Open to anyone teaching a course at CC. PB materials provided by C&amp\;I for each class using this pedagogy.\n \n<a href="https://forms.office.com/r/DNtGEQcYHP">PB Workshopping--New Users AUG 14</a> \n<a href="https://forms.office.com/r/2kyMPBsbb3'">PB Workshopping--Prior Users AUG 14</a> \n\nFor more info\, reach out to <a href="mailto:kstanec@coloradocollege.edu">kstanec@coloradocollege.edu</a> and visit the <a href="https://www.coloradocollege.edu/offices/creativityinnovation/creativity_lab/possibility_books.html">C&amp\;I website</a>.\n\nhttps://today.coloradocollege.edu/events/8927
DTEND:20250814T203000Z
LOCATION:Tim Fuller Event Space\, Tutt Library
DTSTART:20250814T153000Z
SUMMARY:Possibility Books Workshopping
UID:d2b29c9b-ac50-4242-9879-7ed6fc7a4322
END:VEVENT
END:VCALENDAR