BEGIN:VCALENDAR
VERSION:2.0
PRODID:ics.py - http://git.io/lLljaA
BEGIN:VEVENT
DESCRIPTION:\n\nhttps://today.coloradocollege.edu/events/8930
DTEND:20250902T190000Z
LOCATION:Sacred Grounds
DTSTART:20250902T181500Z
SUMMARY:Talking Circle
UID:a0397bcf-2f30-4475-baaa-6088c8ee1ea4
END:VEVENT
END:VCALENDAR