BEGIN:VCALENDAR
VERSION:2.0
PRODID:ics.py - http://git.io/lLljaA
BEGIN:VEVENT
DESCRIPTION:Nosh and 'Drash Tuesday Sept 2 at 12:15pm\nJoin Jewish Life Coordinators Ruthie and Barak for food and midrash as we delve into a text of Jewish ethics the Pirkei Avot!\n \n\nhttps://today.coloradocollege.edu/events/8937
DTEND:20250902T191500Z
LOCATION:Interfaith House
DTSTART:20250902T181500Z
SUMMARY:Nosh and 'Drash
UID:e94e5dbb-0246-4458-8afb-196059bf258d
END:VEVENT
END:VCALENDAR