BEGIN:VCALENDAR
VERSION:2.0
PRODID:ics.py - http://git.io/lLljaA
BEGIN:VEVENT
DESCRIPTION:America's strongest is competing at Ed Robson Arena June 20 - 29. To find more information about the schedule and tickets\, click <a href="https://www.usaweightlifting.org/2025-usaw-national-championships">HERE.</a>\n\nAthlete check-in day\n\nhttps://today.coloradocollege.edu/events/8941
DTEND:20250621T010000Z
LOCATION:Ed Robson Arena
DTSTART:20250620T200000Z
SUMMARY:USA Weightlifting National Championship
UID:56107cdd-1e15-4d7d-941e-3c47756a4fcf
END:VEVENT
END:VCALENDAR