BEGIN:VCALENDAR
VERSION:2.0
PRODID:ics.py - http://git.io/lLljaA
BEGIN:VEVENT
DESCRIPTION:America's strongest is competing at Ed Robson Arena June 20 - 29. To find more information about the schedule and tickets\, click <a href="https://www.usaweightlifting.org/2025-usaw-national-championships">HERE.</a>\n\nYouth National Championships\n\nhttps://today.coloradocollege.edu/events/8942
DTEND:20250622T020000Z
LOCATION:Ed Robson Arena
DTSTART:20250621T140000Z
SUMMARY:USA Weightlifting National Championship
UID:2322faf4-43ca-4348-a735-57a6e016f934
END:VEVENT
END:VCALENDAR