BEGIN:VCALENDAR
VERSION:2.0
PRODID:ics.py - http://git.io/lLljaA
BEGIN:VEVENT
DESCRIPTION:America's strongest is competing at Ed Robson Arena June 20 - 29. To find more information about the schedule and tickets\, click <a href="https://www.usaweightlifting.org/2025-usaw-national-championships">HERE.</a>\n\nYouth National Championships\n\nhttps://today.coloradocollege.edu/events/8943
DTEND:20250623T020000Z
LOCATION:Ed Robson Arena
DTSTART:20250622T140000Z
SUMMARY:USA Weightlifting National Championship
UID:631fa9e7-7827-4632-88b3-a5d00c4af1cc
END:VEVENT
END:VCALENDAR