BEGIN:VCALENDAR
VERSION:2.0
PRODID:ics.py - http://git.io/lLljaA
BEGIN:VEVENT
DESCRIPTION:Come join us on July 1tth from 8:30am - 10:30am at Ed Robson Arena for the opportunity to skate with Brian Boitano! Admission will be FREE\, skate reantal will be $5. \nOnline registration is required in advance. Sign up <a href="https://apps.daysmartrecreation.com/dash/x/#/online/robsonarena/activity-finder/programs/1/levels/41?customer_id=956&amp\;&amp\;">HERE</a>\n\nhttps://today.coloradocollege.edu/events/8958
DTEND:20250711T163000Z
LOCATION:Ed Robson Arena
DTSTART:20250711T143000Z
SUMMARY:Figure Skating Clinic with Olympic Gold Medalist Brian Boitano
UID:a1737cff-a2bf-4fb8-b2e9-ab2355d181e6
END:VEVENT
END:VCALENDAR