BEGIN:VCALENDAR
VERSION:2.0
PRODID:ics.py - http://git.io/lLljaA
BEGIN:VEVENT
DESCRIPTION:\nImagine five friends in a quilting circle decide to make five quilts in a “round robin” sort of way.  Is it possible to find a way to pass quilts among five people so that each person works on each quilt\, and no person passes to the same person twice?  The pursuit of an answer leads to “Latin squares” — mathematical objects with a thousand-year history and modern applications.\n\nThe journey doesn’t stop there\, though\; this talk will describe how one simple problem connects quilting\, taste testing\, combinatorics\, group theory\, graph theory\, number theory\, music\, Tom and Jerry\, and the power/limits of modern computing. We may be starting with just a simple quilt\, but we’ll end up with some mathematical mysteries that remain unsolved to this day.\n\nThis lecture coincides with the museum exhibition <a href="https://fac.coloradocollege.edu/exhibits/alisa-banks-unerased/">Alisa Banks: Unerased</a>\, on view from February 7 – September 6\, 2025\n\nThemed Cocktail: Square Root Spritz\nLecturer: Beth Malmskog\, Associate Professor of Mathematics and Computer Science\, Colorado College\nTickets: $24 ($18 for FAC Members)\, includes your first drink. Bar opens at 5 p.m.\n<a href="https://fac.coloradocollege.edu/event/squaring-the-circle-with-quilts/">GET TICKETS</a>\n\nNot a FAC Member? CC faculty and staff get 50% off fully priced memberships to the Fine Arts Center. Bring your Gold Card to our front desk or call (719) 634-5583 to sign up.\n\nhttps://today.coloradocollege.edu/events/8959
DTEND:20250816T003000Z
LOCATION:Fine Arts Center
DTSTART:20250815T233000Z
SUMMARY:FAC Libation Lecture: Squaring the Circle — with Quilts! 
UID:76797aed-e86b-4a16-9374-23ba01da5435
END:VEVENT
END:VCALENDAR