BEGIN:VCALENDAR
VERSION:2.0
PRODID:ics.py - http://git.io/lLljaA
BEGIN:VEVENT
DESCRIPTION:Lunch on the Lawn is back! This is a fun\, low-key event designed to bring people from all over campus together\, meet new folks\, and enjoy one another’s company — it’s not a meeting and there’s no agenda. \n \nBe sure to bring your own lunch.\n\nhttps://today.coloradocollege.edu/events/8962
DTEND:20250716T193000Z
LOCATION:Tava Quad
DTSTART:20250716T183000Z
SUMMARY:Lunch on the Lawn
UID:b564957c-9da1-4a3a-9467-e3b3a7494636
END:VEVENT
END:VCALENDAR