BEGIN:VCALENDAR
VERSION:2.0
PRODID:ics.py - http://git.io/lLljaA
BEGIN:VEVENT
DESCRIPTION:Interested in intentional reflection\, connection to heart\, and community? Join us every 2nd  Wednesday from  3:45-5 p.m. in Sacred Grounds starting Block 2 on Wednesday\, Oct. 1. We are excited to see what may emerge when we sit with a query and listen to each other\, hearing each other’s wisdom and thoughts. Each gathering with faculty and staff will include a short contemplative practice followed by reflection. Sign up for more information with <a href="https://forms.office.com/Pages/ResponsePage.aspx?id=PLHHz5YSh0OzCF3gj9E8mdS94xXk_n5IgPKYVc134FxURDcwV1k2TTU0UlNLM1UyMzdNTzg1NDFHSi4u">this link.</a>\n\nhttps://today.coloradocollege.edu/events/8964
DTEND:20250929T230000Z
LOCATION:Sacred Grounds
DTSTART:20250929T214500Z
SUMMARY:Contemplative Inquiry in Community
UID:65ee9b91-148d-4f97-932a-229d12df5d02
END:VEVENT
END:VCALENDAR