BEGIN:VCALENDAR
VERSION:2.0
PRODID:ics.py - http://git.io/lLljaA
BEGIN:VEVENT
DESCRIPTION:\n\nJoin us for a one-hour yoga class with instructor Dominika Kamionka in our beautiful glass-walled Smith Family gallery!\n\nTickets available for <a href="https://fac.coloradocollege.edu/event/yoga-at-the-fac-5/2025-08-16/">single classes for $12</a>\, or you can purchase <a href="https://fac-cc.my.salesforce-sites.com/ticket/#/instances/a0FUY000007Fkxl2AC">5- or 10-class flex passes</a>! Don't forget to login to get a 10% FAC Member discount!\n\nhttps://today.coloradocollege.edu/events/8971
DTEND:20250816T180000Z
LOCATION:Fine Arts Center - Smith Family Gallery
DTSTART:20250816T170000Z
SUMMARY:Yoga at the FAC | Saturday\, August 16\, 11 am
UID:b16b88d0-a4c3-4ba9-bd79-e91cd194f54d
END:VEVENT
END:VCALENDAR