BEGIN:VCALENDAR
VERSION:2.0
PRODID:ics.py - http://git.io/lLljaA
BEGIN:VEVENT
DESCRIPTION:\n\n\n\n\n\n\n\n\n\n\n\nCome to the FAC Courtyard and dance the night away at this year Silent Disco! Choose between 3 different DJs to listen to while you and your friends enjoy the dance floor!\n\n\n\n\n\n\n\n\n\n\nhttps://today.coloradocollege.edu/events/8975
DTEND:20250823T043000Z
LOCATION:Fine Arts Center Courtyard
DTSTART:20250823T020000Z
SUMMARY:Silent Disco
UID:2cdaf2a5-dab2-4b90-b9e8-b4cf9b947f6e
END:VEVENT
END:VCALENDAR