BEGIN:VCALENDAR
VERSION:2.0
PRODID:ics.py - http://git.io/lLljaA
BEGIN:VEVENT
DESCRIPTION:\n\nEach Registered Student Organization for CC is required to have at least 1 Student Org Leader from their organization attend one of the trainings. In this training we will go over how to use Presence/Involve\, Organization Transitions\, Pcard Process\, and Event Registration. Please plan to attend one of the following trainings:\n\nTuesday\, September 2nd 12:30-1:30pm\nWednesday\, September 3rd 12:30-1:30pm\nThursday\, September 4th 12:30-1:30pm\n\nAll trainings will take place in Gaylord Hall on the first floor of Worner.\n\nhttps://today.coloradocollege.edu/events/8978
DTEND:20250902T193000Z
LOCATION:Gaylord Hall
DTSTART:20250902T183000Z
SUMMARY:Student Org Leader Training
UID:2444af17-e69e-41c1-b346-1274b553b842
END:VEVENT
END:VCALENDAR