BEGIN:VCALENDAR
VERSION:2.0
PRODID:ics.py - http://git.io/lLljaA
BEGIN:VEVENT
DESCRIPTION:Please join us on September 1 (Labor Day) for our first rehearsal!  We meet every Monday from 7-9 pm in Cornerstone Flex Classroom.  No audition necessary but please contact Jeremy Van Hoy: jvanhoy@coloradocollege.edu.  Instruments are available if you need one!\n\nhttps://today.coloradocollege.edu/events/8982
DTEND:20250822T030000Z
LOCATION:Cornerstone 130 (Flex Room)
DTSTART:20250822T010000Z
SUMMARY:Concert Band seeks new members!
UID:9b3447f1-43c5-443a-b690-14d0af443271
END:VEVENT
END:VCALENDAR