BEGIN:VCALENDAR
VERSION:2.0
PRODID:ics.py - http://git.io/lLljaA
BEGIN:VEVENT
DESCRIPTION:Come to upstairs Worner this friday to meet new people\, play board games and eat snacks. No previous knowledge of board games required!\n\n\nhttps://today.coloradocollege.edu/events/8986
DTEND:20250823T055900Z
LOCATION:Worner 211
DTSTART:20250823T020000Z
SUMMARY:Board Games Club
UID:776101a6-a602-4386-8132-6af8f7e2c1aa
END:VEVENT
END:VCALENDAR