BEGIN:VCALENDAR
VERSION:2.0
PRODID:ics.py - http://git.io/lLljaA
BEGIN:VEVENT
DESCRIPTION:Join us to explore how different ways of structuring class participation shape students' enjoyment of the class and their ability to operationalize their learning. This session will address specific strategies for creating environments that support students’ risk-taking and for cultivating robust\, meaningful\, and inclusive student participation. Lunch provided with RSVP.\n\nSign up for <a href="https://forms.office.com/Pages/ResponsePage.aspx?id=PLHHz5YSh0OzCF3gj9E8mX4av9yINbxCsa8aVVsL1LFURDVVWlBaWkwyRVk1SFBEM0hPV0ZOOU5PNyQlQCN0PWcu">Inclusive Participation</a>\n\nPresented by: Ryan Bañagale &amp\; Jessica Hunter\n\nhttps://today.coloradocollege.edu/events/8991
DTEND:20250902T193000Z
LOCATION:Tutt Library 105
DTSTART:20250902T181500Z
SUMMARY:Crown Center Workshop: Inclusive Participation
UID:73d3af1f-ab8d-4818-9e06-a2ebcf2726d6
END:VEVENT
END:VCALENDAR