BEGIN:VCALENDAR
VERSION:2.0
PRODID:ics.py - http://git.io/lLljaA
BEGIN:VEVENT
DESCRIPTION:\n\nhttps://today.coloradocollege.edu/events/8996
DTEND:20250903T191500Z
LOCATION:Sacred Grounds
DTSTART:20250903T181500Z
SUMMARY:Shove Council 
UID:5c53dc72-eb33-47fc-9067-accae31c190e
END:VEVENT
END:VCALENDAR