BEGIN:VCALENDAR
VERSION:2.0
PRODID:ics.py - http://git.io/lLljaA
BEGIN:VEVENT
DESCRIPTION:\n\nhttps://today.coloradocollege.edu/events/9001
DTEND:20251022T191500Z
LOCATION:Sacred Grounds
DTSTART:20251022T181500Z
SUMMARY:Shove Council
UID:25ad9124-97a7-4298-aafc-b1ed856aef47
END:VEVENT
END:VCALENDAR