BEGIN:VCALENDAR
VERSION:2.0
PRODID:ics.py - http://git.io/lLljaA
BEGIN:VEVENT
DESCRIPTION:\n\nhttps://today.coloradocollege.edu/events/9008
DTEND:20250929T191500Z
LOCATION:Sacred Grounds
DTSTART:20250929T181500Z
SUMMARY:Buddhist Text Study
UID:24125e8e-446a-4451-ab51-843f86b6366b
END:VEVENT
END:VCALENDAR