BEGIN:VCALENDAR
VERSION:2.0
PRODID:ics.py - http://git.io/lLljaA
BEGIN:VEVENT
DESCRIPTION:\n\nhttps://today.coloradocollege.edu/events/9010
DTEND:20251201T201500Z
LOCATION:Sacred Grounds
DTSTART:20251201T191500Z
SUMMARY:Buddhist Text Study
UID:1d0232a8-f6bb-43dc-abec-fc9fd1350b64
END:VEVENT
END:VCALENDAR