BEGIN:VCALENDAR
VERSION:2.0
PRODID:ics.py - http://git.io/lLljaA
BEGIN:VEVENT
DESCRIPTION:\n\nhttps://today.coloradocollege.edu/events/9014
DTEND:20260427T191500Z
LOCATION:Sacred Grounds
DTSTART:20260427T181500Z
SUMMARY:Buddhist Text Study
UID:4d2c85b2-f41c-44c2-b9c6-495d762b1b7e
END:VEVENT
END:VCALENDAR