BEGIN:VCALENDAR
VERSION:2.0
PRODID:ics.py - http://git.io/lLljaA
BEGIN:VEVENT
DESCRIPTION:\n\nhttps://today.coloradocollege.edu/events/9020
DTEND:20250904T003000Z
LOCATION:Sacred Grounds
DTSTART:20250903T233000Z
SUMMARY:Grief Support Community Dinner
UID:3ab642a7-4a15-4a26-aaa7-7bba21b3c179
END:VEVENT
END:VCALENDAR